BEGIN:VCALENDAR
VERSION:2.0
PRODID:-//wp-events-plugin.com//7.2.3.1//EN
TZID:Europe/Berlin
X-WR-TIMEZONE:Europe/Berlin
BEGIN:VEVENT
UID:93@kolpingjugend-paderborn-west.de
DTSTART;TZID=Europe/Berlin:20190523T170700
DTEND;TZID=Europe/Berlin:20190526T170700
DTSTAMP:20190521T210012Z
URL:https://kolpingjugend-paderborn-west.de/veranstaltungen/72-stunden-akt
 ion-2018/
SUMMARY:72-Stunden Aktion 2019
DESCRIPTION:Nach genau 5 Jahren ist es wieder soweit\, die 72-Stunden Aktio
 n des BDKJ findet 2019 endlich wieder statt und wir sind natürlich wieder
  mit dabei :-) Wer die 72-Stunden Aktion nicht kennt\, dem sei nachfolgend
 er Trailer empfohlen:\n\nhttps://www.youtube.com/watch?v=fZj7l4a9kyg\n\nVo
 r 5 Jahren haben wir mit unserem Beitrag zum Riemekefest beigetragen: Ein 
 Video von unserem Projekt 2013 findet ihr auf YouTube und ein paar Bilder 
 in der entsprechenden flickr-Galerie.\n\nDieses Jahr befassen wir uns mit 
 dem Thema Ökologie und Mutter Natur etwas zurück geben\, dazu werden wir
  etwas bauen und kreativ werden. Gemeinsam mit euch wollen wir am Donnerst
 ag\, den 23.05.2019\, pünktlich um 17:07 Uhr bei einem Einstand am Grill 
 in die 72-Stunden-Aktion starten.\nWenn ihr bei unserer Aktion mitwirken m
 öchtet meldet euch gerne bei uns: team@kj-pb-west.de oder 0176 – 4583 2
 489
ATTACH;FMTTYPE=image/jpeg:https://kolpingjugend-paderborn-west.de/wp-conte
 nt/uploads/2018/11/logo-72-stunden-aktion-datum-gruen.jpg
LOCATION:Pfarrheim St. Georg\, Neuhäuser Str. 78a\, Paderborn\, 33102\, NR
 W\, Deutschland
GEO:51.72445380000001;8.737209699999994
X-APPLE-STRUCTURED-LOCATION;VALUE=URI;X-ADDRESS=Neuhäuser Str. 78a\, Pader
 born\, 33102\, NRW\, Deutschland;X-APPLE-RADIUS=100;X-TITLE=Pfarrheim St. 
 Georg:geo:51.72445380000001,8.737209699999994
END:VEVENT
BEGIN:VTIMEZONE
TZID:Europe/Berlin
X-LIC-LOCATION:Europe/Berlin
BEGIN:DAYLIGHT
DTSTART:20190331T030000
TZOFFSETFROM:+0100
TZOFFSETTO:+0200
TZNAME:CEST
END:DAYLIGHT
END:VTIMEZONE
END:VCALENDAR