BEGIN:VCALENDAR
VERSION:2.0
PRODID:-//wp-events-plugin.com//7.2.3.1//EN
TZID:Europe/Berlin
X-WR-TIMEZONE:Europe/Berlin
BEGIN:VEVENT
UID:315@kolpingjugend-paderborn-west.de
DTSTART;TZID=Europe/Berlin:20200216T150000
DTEND;TZID=Europe/Berlin:20200216T170000
DTSTAMP:20200211T165719Z
URL:https://kolpingjugend-paderborn-west.de/veranstaltungen/activity-park/
SUMMARY:Activity Park
DESCRIPTION:Am 16. Februar gehen wir gemeinsam in den Activity Park Paderbo
 rn (ehm. Eisbahn) und verbringen dort einen schönen Tag. Uhrzeiten sowie 
 genaueres folgen.\n\nAnmeldung bei team@kj-pb-west.de
LOCATION:Activity Park Paderborn\, Pamplona Straße 15\, Paderborn\, 33106\
 , Deutschland
GEO:51.685536;8.719382
X-APPLE-STRUCTURED-LOCATION;VALUE=URI;X-ADDRESS=Pamplona Straße 15\, Pader
 born\, 33106\, Deutschland;X-APPLE-RADIUS=100;X-TITLE=Activity Park Paderb
 orn:geo:51.685536,8.719382
END:VEVENT
BEGIN:VTIMEZONE
TZID:Europe/Berlin
X-LIC-LOCATION:Europe/Berlin
BEGIN:STANDARD
DTSTART:20191027T020000
TZOFFSETFROM:+0200
TZOFFSETTO:+0100
TZNAME:CET
END:STANDARD
END:VTIMEZONE
END:VCALENDAR