BEGIN:VCALENDAR
VERSION:2.0
PRODID:-//wp-events-plugin.com//7.2.3.1//EN
TZID:Europe/Berlin
X-WR-TIMEZONE:Europe/Berlin
BEGIN:VEVENT
UID:42@kolpingjugend-paderborn-west.de
DTSTART;TZID=Europe/Berlin:20171112T160000
DTEND;TZID=Europe/Berlin:20171112T180000
DTSTAMP:20171112T083121Z
URL:https://kolpingjugend-paderborn-west.de/veranstaltungen/bibel-teilen/
SUMMARY:Bibel Teilen
DESCRIPTION:Am Sonntag\, den 12.11.2017 findet das "Bibel Teilen" statt.\n\
 nBeim Bibel -Teilen geht es darum\, dass sich alle interressierten zusamme
 n in einen Kreis setzen und sich anschließend eine Bibel-Stelle\, einen B
 ibel-Vers oder eine Bibel-Geschichte aus der Bibel heraussuchen. Der Haupt
 teil besteht darin nach dem Raussuchen der Bibel-Stellen darüber in der G
 ruppe zu diskutieren und Meinungen auszutauschen. Jeder interressierte kan
 n einfach vorbei kommen!\n\n„Die Sieben-Schritte-Methode - erstmals vom 
 kath. Lumko-Institut in Südafrika herausgegeben\,&nbsp\;erwuchs aus der i
 ntensiven Hinwendung der Kleinen Christlichen Gemeinschaften in Afrika zur
 &nbsp\;Heiligen Schrift. Diese Gemeinschaften sind als Nachbarschaftsgrupp
 en bemüht\, bewusst ein&nbsp\;christliches Leben zu führen und untereina
 nder gute zwischenmenschliche Beziehungen aufzubauen.&nbsp\;Sie wenden sic
 h der Bibel intensiv zu\, um ihre Situation im Licht der Heiligen Schrift 
 besser erkennen&nbsp\;und bewältigen zu können.“
LOCATION:Pfarrheim St. Georg\, Neuhäuser Str. 78a\, Paderborn\, 33102\, NR
 W\, Deutschland
GEO:51.72445380000001;8.737209699999994
X-APPLE-STRUCTURED-LOCATION;VALUE=URI;X-ADDRESS=Neuhäuser Str. 78a\, Pader
 born\, 33102\, NRW\, Deutschland;X-APPLE-RADIUS=100;X-TITLE=Pfarrheim St. 
 Georg:geo:51.72445380000001,8.737209699999994
END:VEVENT
BEGIN:VTIMEZONE
TZID:Europe/Berlin
X-LIC-LOCATION:Europe/Berlin
BEGIN:STANDARD
DTSTART:20171029T020000
TZOFFSETFROM:+0200
TZOFFSETTO:+0100
TZNAME:CET
END:STANDARD
END:VTIMEZONE
END:VCALENDAR