BEGIN:VCALENDAR
VERSION:2.0
PRODID:-//wp-events-plugin.com//7.2.3.1//EN
TZID:Europe/Berlin
X-WR-TIMEZONE:Europe/Berlin
BEGIN:VEVENT
UID:19@kolpingjugend-paderborn-west.de
DTSTART;TZID=Europe/Berlin:20170305T180000
DTEND;TZID=Europe/Berlin:20170305T210000
DTSTAMP:20161226T122138Z
URL:https://kolpingjugend-paderborn-west.de/veranstaltungen/einweihungspar
 ty-der-jugendraeume/
SUMMARY:Einweihungsparty der Jugendräume
DESCRIPTION:Am Sonntag\, den 05. März 2017 laden wir ab 18 Uhr zur Einweih
 ungsparty der Jugendräume ein.
LOCATION:Pfarrheim St. Georg\, Neuhäuser Str. 78a\, Paderborn\, 33102\, NR
 W\, Deutschland
GEO:51.72445380000001;8.737209699999994
X-APPLE-STRUCTURED-LOCATION;VALUE=URI;X-ADDRESS=Neuhäuser Str. 78a\, Pader
 born\, 33102\, NRW\, Deutschland;X-APPLE-RADIUS=100;X-TITLE=Pfarrheim St. 
 Georg:geo:51.72445380000001,8.737209699999994
END:VEVENT
BEGIN:VTIMEZONE
TZID:Europe/Berlin
X-LIC-LOCATION:Europe/Berlin
BEGIN:STANDARD
DTSTART:20161030T020000
TZOFFSETFROM:+0200
TZOFFSETTO:+0100
TZNAME:CET
END:STANDARD
END:VTIMEZONE
END:VCALENDAR