BEGIN:VCALENDAR
VERSION:2.0
PRODID:-//wp-events-plugin.com//7.2.3.1//EN
TZID:Europe/Berlin
X-WR-TIMEZONE:Europe/Berlin
BEGIN:VEVENT
UID:448@kolpingjugend-paderborn-west.de
DTSTART;TZID=Europe/Berlin:20241110T094500
DTEND;TZID=Europe/Berlin:20241110T140000
DTSTAMP:20241006T182354Z
URL:https://kolpingjugend-paderborn-west.de/veranstaltungen/eislaufen-in-b
 ielefeld-monatsaktion/
SUMMARY:Eislaufen in Bielefeld - Monatsaktion
DESCRIPTION:Gemeinsam fahren wir zur Oetker-Eisbahn in Bielefeld (Duisburge
 r Str. 8\, 33647 Bielefeld).\n\nDer Teilnehmerbeitrag beläuft sich auf 10
 € (für Schlittschuhbesitzer) und 15€ (für alle anderen).\n\nWir tref
 fen uns zum 9:45 Uhr am Pfarrheim St. Georg und fahren um 10 Uhr nach Biel
 efeld (Fahrgemeinschaft). Bis 11 Uhr werden wir Tickets kaufen\, Schuhe au
 sleihen und uns umziehen.\n\n11-13 Uhr Eiszeit. ACHTUNG! Hier besteht HELP
 FLICHT und denkt bitte an Handschuhe zur Sicherheit.\n\nAnmeldung bis zum 
 3.11.2024 via Mail (team@kj-pb-west.de) oder über Signal.
END:VEVENT
BEGIN:VTIMEZONE
TZID:Europe/Berlin
X-LIC-LOCATION:Europe/Berlin
BEGIN:STANDARD
DTSTART:20241027T020000
TZOFFSETFROM:+0200
TZOFFSETTO:+0100
TZNAME:CET
END:STANDARD
END:VTIMEZONE
END:VCALENDAR