BEGIN:VCALENDAR
VERSION:2.0
PRODID:-//wp-events-plugin.com//7.2.3.1//EN
TZID:Europe/Berlin
X-WR-TIMEZONE:Europe/Berlin
BEGIN:VEVENT
UID:126@kolpingjugend-paderborn-west.de
DTSTART;TZID=Europe/Berlin;VALUE=DATE:20191103
DTEND;TZID=Europe/Berlin;VALUE=DATE:20191104
DTSTAMP:20191018T150322Z
URL:https://kolpingjugend-paderborn-west.de/veranstaltungen/fahrt-zum-ruts
 chenparadies-aquamagis-in-plettenberg/
SUMMARY:Fahrt zum Rutschenparadies AquaMagis in Plettenberg
DESCRIPTION:Am 03.11.2019 wird's schnell...\n\nWir fahren zusammen ins Aqua
 Magis nach Plettenberg.\n\nDie Anmeldungen sind ab jetzt freigegeben. Ange
 meldet werden kannn sich unter: team@kj-pb-west.de.\n\nWie immer gillt\, w
 er zu erst kommt\, malt zuerst: à die Plätze sind begrenzt.\n\nLos geht'
 s um 9 Uhr beim Pfarrheim St. Georg (Neuhäuser Str. 78A\, 33102 Paderborn
 ). Gegen 20 Uhr planen wir die Rückkehr in Paderborn.\n\nKosten:\nKolping
 -Mitglieder: 15€\nNicht-Mitglieder: 20€\n\n&nbsp\;
LOCATION:AquaMagis Plettenberg\, AquaMagis Plettenberg\, Böddinghauser Fel
 d 1\, 58840\, Plettenberg\, Deutschland
GEO:51.2318583;7.8502333000000135
X-APPLE-STRUCTURED-LOCATION;VALUE=URI;X-ADDRESS=AquaMagis Plettenberg\, Bö
 ddinghauser Feld 1\, 58840\, Plettenberg\, Deutschland;X-APPLE-RADIUS=100;
 X-TITLE=AquaMagis Plettenberg:geo:51.2318583,7.8502333000000135
END:VEVENT
BEGIN:VTIMEZONE
TZID:Europe/Berlin
X-LIC-LOCATION:Europe/Berlin
BEGIN:STANDARD
DTSTART:20191027T020000
TZOFFSETFROM:+0200
TZOFFSETTO:+0100
TZNAME:CET
END:STANDARD
END:VTIMEZONE
END:VCALENDAR