BEGIN:VCALENDAR
VERSION:2.0
PRODID:-//wp-events-plugin.com//7.2.3.1//EN
TZID:Europe/Berlin
X-WR-TIMEZONE:Europe/Berlin
BEGIN:VEVENT
UID:9@kolpingjugend-paderborn-west.de
DTSTART;TZID=Europe/Berlin:20161023T150000
DTEND;TZID=Europe/Berlin:20161023T180000
DTSTAMP:20161013T211844Z
URL:https://kolpingjugend-paderborn-west.de/veranstaltungen/girls-day/
SUMMARY:Girls-Day
DESCRIPTION:Am 23.10. findet von 15:00 - 18:00 Uhr im Pfarrheim St. Georg u
 nser Girls-Day statt. Dazu sind alle Mädchen im Alter von 9 - 14 Jahren h
 erzlich eingeladen! Gemeinsam wollen wir einen entspannten und gemütliche
 n Nachmittag verbringen\, mit allem\, was für einen Girls-Day dazugehört
  :)\n\nAnmeldung per Email bei Esther unter events@kj-pb-west.de
LOCATION:Pfarrheim St. Georg\, Neuhäuser Str. 78a\, Paderborn\, 33102\, NR
 W\, Deutschland
GEO:51.72445380000001;8.737209699999994
X-APPLE-STRUCTURED-LOCATION;VALUE=URI;X-ADDRESS=Neuhäuser Str. 78a\, Pader
 born\, 33102\, NRW\, Deutschland;X-APPLE-RADIUS=100;X-TITLE=Pfarrheim St. 
 Georg:geo:51.72445380000001,8.737209699999994
END:VEVENT
BEGIN:VTIMEZONE
TZID:Europe/Berlin
X-LIC-LOCATION:Europe/Berlin
BEGIN:DAYLIGHT
DTSTART:20160327T030000
TZOFFSETFROM:+0100
TZOFFSETTO:+0200
TZNAME:CEST
END:DAYLIGHT
END:VTIMEZONE
END:VCALENDAR