BEGIN:VCALENDAR
VERSION:2.0
PRODID:-//wp-events-plugin.com//7.2.3.1//EN
TZID:Europe/Berlin
X-WR-TIMEZONE:Europe/Berlin
BEGIN:VEVENT
UID:128@kolpingjugend-paderborn-west.de
DTSTART;TZID=Europe/Berlin:20191031T190000
DTEND;TZID=Europe/Berlin:20191031T220000
DTSTAMP:20190911T185125Z
URL:https://kolpingjugend-paderborn-west.de/veranstaltungen/grusel-party-2
 019/
SUMMARY:Grusel-Party 2019
DESCRIPTION:Süßes sonst gibt's Saures!\n\nWie jedes Jahr findet an Hallow
 een (31.10.2019) im Pfarrheim unsere schaurig-schöne Gruselparty statt. F
 ür alle Grundschulkinder und Kinder der 5. &amp\; 6. Klassen warten erstk
 lassige Partyspiele\, tolle Musik und auch dieses Jahr nehmen wir das Spie
 l Just-Dance für die X-Box wieder mit ins Programm auf. Aber selbstverst
 ändlich gibt's auch Snacks und Getränke. Wer hier etwas beisteuern möch
 te kann dies gerne tun :)\n\nNeben Pinata und Tanz gibt's auch einen Preis
  für das beste Kostüm! Das heißt für alle die Kommen wollen: Je ausgef
 allener das Kostüm\, desto höher die Gewinnchance.\n\nWir freuen uns auf
  euch!\n\n
ATTACH;FMTTYPE=image/jpeg:https://kolpingjugend-paderborn-west.de/wp-conte
 nt/uploads/2017/11/SNY01567.jpg
LOCATION:Pfarrheim St. Georg\, Neuhäuser Str. 78a\, Paderborn\, 33102\, NR
 W\, Deutschland
GEO:51.72445380000001;8.737209699999994
X-APPLE-STRUCTURED-LOCATION;VALUE=URI;X-ADDRESS=Neuhäuser Str. 78a\, Pader
 born\, 33102\, NRW\, Deutschland;X-APPLE-RADIUS=100;X-TITLE=Pfarrheim St. 
 Georg:geo:51.72445380000001,8.737209699999994
END:VEVENT
BEGIN:VTIMEZONE
TZID:Europe/Berlin
X-LIC-LOCATION:Europe/Berlin
BEGIN:STANDARD
DTSTART:20191027T020000
TZOFFSETFROM:+0200
TZOFFSETTO:+0100
TZNAME:CET
END:STANDARD
END:VTIMEZONE
END:VCALENDAR