BEGIN:VCALENDAR
VERSION:2.0
PRODID:-//wp-events-plugin.com//7.2.3.1//EN
TZID:Europe/Berlin
X-WR-TIMEZONE:Europe/Berlin
BEGIN:VEVENT
UID:372@kolpingjugend-paderborn-west.de
DTSTART;TZID=Europe/Berlin:20240322T170000
DTEND;TZID=Europe/Berlin:20240322T180000
DTSTAMP:20240318T112010Z
URL:https://kolpingjugend-paderborn-west.de/veranstaltungen/jugendtreff-wa
 hlen2024/
SUMMARY:Jugendtreff: Wahlen der Leitung
DESCRIPTION:Am 22.03.24 wählen wir das Leitungsteam unserer Kolpingjugend.
  Wahlberechtigt sind alle Mitglieder ab 12 Jahren.
LOCATION:Pfarrheim St. Georg\, Neuhäuser Str. 78a\, Paderborn\, 33102\, NR
 W\, Deutschland
GEO:51.72445380000001;8.737209699999994
X-APPLE-STRUCTURED-LOCATION;VALUE=URI;X-ADDRESS=Neuhäuser Str. 78a\, Pader
 born\, 33102\, NRW\, Deutschland;X-APPLE-RADIUS=100;X-TITLE=Pfarrheim St. 
 Georg:geo:51.72445380000001,8.737209699999994
END:VEVENT
BEGIN:VTIMEZONE
TZID:Europe/Berlin
X-LIC-LOCATION:Europe/Berlin
BEGIN:STANDARD
DTSTART:20231029T020000
TZOFFSETFROM:+0200
TZOFFSETTO:+0100
TZNAME:CET
END:STANDARD
END:VTIMEZONE
END:VCALENDAR