BEGIN:VCALENDAR
VERSION:2.0
PRODID:-//wp-events-plugin.com//7.2.3.1//EN
TZID:Europe/Berlin
X-WR-TIMEZONE:Europe/Berlin
BEGIN:VEVENT
UID:364@kolpingjugend-paderborn-west.de
DTSTART;TZID=Europe/Berlin:20220902T170000
DTEND;TZID=Europe/Berlin:20220902T190000
DTSTAMP:20220822T183105Z
URL:https://kolpingjugend-paderborn-west.de/veranstaltungen/jugendtreff-we
 ihnachten-im-sommer/
SUMMARY:Jugendtreff: Weihnachten im Sommer
DESCRIPTION:Zum Jugendtreff am 02.09.2022 laden wir euch von 17-19 Uhr zum 
 etwas anderen Weihnachtsfest ein.\nHabt Ihr schonmal Weihnachten im Sommer
  gefeiert? Probiert's mit uns aus!
LOCATION:Pfarrheim St. Georg\, Neuhäuser Str. 78a\, Paderborn\, 33102\, NR
 W\, Deutschland
GEO:51.72445380000001;8.737209699999994
X-APPLE-STRUCTURED-LOCATION;VALUE=URI;X-ADDRESS=Neuhäuser Str. 78a\, Pader
 born\, 33102\, NRW\, Deutschland;X-APPLE-RADIUS=100;X-TITLE=Pfarrheim St. 
 Georg:geo:51.72445380000001,8.737209699999994
END:VEVENT
BEGIN:VTIMEZONE
TZID:Europe/Berlin
X-LIC-LOCATION:Europe/Berlin
BEGIN:DAYLIGHT
DTSTART:20220327T030000
TZOFFSETFROM:+0100
TZOFFSETTO:+0200
TZNAME:CEST
END:DAYLIGHT
END:VTIMEZONE
END:VCALENDAR