BEGIN:VCALENDAR
VERSION:2.0
PRODID:-//wp-events-plugin.com//7.2.3.1//EN
TZID:Europe/Berlin
X-WR-TIMEZONE:Europe/Berlin
BEGIN:VEVENT
UID:340@kolpingjugend-paderborn-west.de
DTSTART;TZID=Europe/Berlin:20201002T180000
DTEND;TZID=Europe/Berlin:20201002T190000
DTSTAMP:20200929T095417Z
URL:https://kolpingjugend-paderborn-west.de/veranstaltungen/jugendtreff/
SUMMARY:Jugendtreff
DESCRIPTION:Ab jetzt findet immer am 1. Freitag im Monat unser Jugendtreff 
 statt\, zu dem wir euch ganz herzlich einladen! Der Treff ist für Jugendl
 iche ab 13 Jahre!\nWir wollen in lockerer Atmosphäre mal nen Plausch halt
 en oder mal was spielen. Was genau entscheidet dabei IHR!\nDenkt bitte ebe
 nfalls an einen Mund-Nasen-Schutz!
ATTACH;FMTTYPE=image/jpeg:https://kolpingjugend-paderborn-west.de/wp-conte
 nt/uploads/2020/09/Jugendtreff.jpg
LOCATION:Pfarrheim St. Georg\, Neuhäuser Str. 78a\, Paderborn\, 33102\, NR
 W\, Deutschland
GEO:51.72445380000001;8.737209699999994
X-APPLE-STRUCTURED-LOCATION;VALUE=URI;X-ADDRESS=Neuhäuser Str. 78a\, Pader
 born\, 33102\, NRW\, Deutschland;X-APPLE-RADIUS=100;X-TITLE=Pfarrheim St. 
 Georg:geo:51.72445380000001,8.737209699999994
END:VEVENT
BEGIN:VTIMEZONE
TZID:Europe/Berlin
X-LIC-LOCATION:Europe/Berlin
BEGIN:DAYLIGHT
DTSTART:20200329T030000
TZOFFSETFROM:+0100
TZOFFSETTO:+0200
TZNAME:CEST
END:DAYLIGHT
END:VTIMEZONE
END:VCALENDAR