BEGIN:VCALENDAR
VERSION:2.0
PRODID:-//wp-events-plugin.com//7.2.3.1//EN
TZID:Europe/Berlin
X-WR-TIMEZONE:Europe/Berlin
BEGIN:VEVENT
UID:123@kolpingjugend-paderborn-west.de
DTSTART;TZID=Europe/Berlin:20191011T170000
DTEND;TZID=Europe/Berlin:20191011T190000
DTSTAMP:20190711T182741Z
URL:https://kolpingjugend-paderborn-west.de/veranstaltungen/kinderbetreuun
 g-beim-kleiderbasar-3/
SUMMARY:Kinderbetreuung beim Kleiderbasar
DESCRIPTION:Der Kleiderbasar der Kolpingsfamilie geht in die elfte Runde un
 d die Kolpingjugend Paderborn-West übernimmt wie in den vergangenen Jahre
 n wieder die Kinderbetreuung. von 17-19 Uhr
LOCATION:Pfarrheim St. Georg\, Neuhäuser Str. 78a\, Paderborn\, 33102\, NR
 W\, Deutschland
GEO:51.72445380000001;8.737209699999994
X-APPLE-STRUCTURED-LOCATION;VALUE=URI;X-ADDRESS=Neuhäuser Str. 78a\, Pader
 born\, 33102\, NRW\, Deutschland;X-APPLE-RADIUS=100;X-TITLE=Pfarrheim St. 
 Georg:geo:51.72445380000001,8.737209699999994
END:VEVENT
BEGIN:VTIMEZONE
TZID:Europe/Berlin
X-LIC-LOCATION:Europe/Berlin
BEGIN:DAYLIGHT
DTSTART:20190331T030000
TZOFFSETFROM:+0100
TZOFFSETTO:+0200
TZNAME:CEST
END:DAYLIGHT
END:VTIMEZONE
END:VCALENDAR