BEGIN:VCALENDAR
VERSION:2.0
PRODID:-//wp-events-plugin.com//7.2.3.1//EN
TZID:Europe/Berlin
X-WR-TIMEZONE:Europe/Berlin
BEGIN:VEVENT
UID:22@kolpingjugend-paderborn-west.de
DTSTART;TZID=Europe/Berlin:20170407T000000
DTEND;TZID=Europe/Berlin:20170407T000000
DTSTAMP:20170307T214840Z
URL:https://kolpingjugend-paderborn-west.de/veranstaltungen/kinderbetreuun
 g-beim-kleiderbasar/
SUMMARY:Kinderbetreuung beim Kleiderbasar
DESCRIPTION:Am 07.04.2017 Findet in Pfarrheim St. Georg der alljährliche K
 leidebasar statt. Alle Kinde sind während ihre Eltern über den Kleiderba
 sar schlendern herzlich dazu eingeladen\, zur Kiderbetreuung in den Jugend
 raum zu kommen.
ATTACH;FMTTYPE=image/jpeg:https://kolpingjugend-paderborn-west.de/wp-conte
 nt/uploads/2016/12/Bild3.jpg
LOCATION:Pfarrheim St. Georg\, Neuhäuser Str. 78a\, Paderborn\, 33102\, NR
 W\, Deutschland
GEO:51.72445380000001;8.737209699999994
X-APPLE-STRUCTURED-LOCATION;VALUE=URI;X-ADDRESS=Neuhäuser Str. 78a\, Pader
 born\, 33102\, NRW\, Deutschland;X-APPLE-RADIUS=100;X-TITLE=Pfarrheim St. 
 Georg:geo:51.72445380000001,8.737209699999994
END:VEVENT
BEGIN:VTIMEZONE
TZID:Europe/Berlin
X-LIC-LOCATION:Europe/Berlin
BEGIN:DAYLIGHT
DTSTART:20170326T030000
TZOFFSETFROM:+0100
TZOFFSETTO:+0200
TZNAME:CEST
END:DAYLIGHT
END:VTIMEZONE
END:VCALENDAR