BEGIN:VCALENDAR
VERSION:2.0
PRODID:-//wp-events-plugin.com//7.2.3.1//EN
TZID:Europe/Berlin
X-WR-TIMEZONE:Europe/Berlin
BEGIN:VEVENT
UID:371@kolpingjugend-paderborn-west.de
DTSTART;TZID=Europe/Berlin:20240223T194500
DTEND;TZID=Europe/Berlin:20240223T223000
DTSTAMP:20240124T131827Z
URL:https://kolpingjugend-paderborn-west.de/veranstaltungen/nacht-der-lich
 ter2024/
SUMMARY:Nacht der Lichter 2024
DESCRIPTION:Zum 22. Mal findet die sogenannte "NACHT der Lichter" im Jahr 2
 024 im Hohen Dom zu Paderborn statt. Ihr seid eingeladen\, mit uns den Tai
 zéklängen und -liedern zu lauschen. Ein großes Lichtermeer an Kerzen wi
 rd den Dom erleuchten und zum Ende des Gottesdienstes sind alle eingeladen
  noch zu verweilen\, ein Gespräch in den Seitenkapellen zu führen oder a
 m Altar das traditionelle Kreuz zu verehren.\n\n&nbsp\;\n\nAnmeldung vorab
  an team@kj-pb-west.de
LOCATION:Paderborner Dom\, Domplatz\, Paderborn\, Nordrhein-Westfalen\, 331
 02\, Deutschland
GEO:51.718682;8.756844
X-APPLE-STRUCTURED-LOCATION;VALUE=URI;X-ADDRESS=Domplatz\, Paderborn\, Nord
 rhein-Westfalen\, 33102\, Deutschland;X-APPLE-RADIUS=100;X-TITLE=Paderborn
 er Dom:geo:51.718682,8.756844
END:VEVENT
BEGIN:VTIMEZONE
TZID:Europe/Berlin
X-LIC-LOCATION:Europe/Berlin
BEGIN:STANDARD
DTSTART:20231029T020000
TZOFFSETFROM:+0200
TZOFFSETTO:+0100
TZNAME:CET
END:STANDARD
END:VTIMEZONE
END:VCALENDAR