BEGIN:VCALENDAR
VERSION:2.0
PRODID:-//wp-events-plugin.com//7.2.3.1//EN
TZID:Europe/Berlin
X-WR-TIMEZONE:Europe/Berlin
BEGIN:VEVENT
UID:33@kolpingjugend-paderborn-west.de
DTSTART;TZID=Europe/Berlin:20170412T170000
DTEND;TZID=Europe/Berlin:20170412T190000
DTSTAMP:20170402T185913Z
URL:https://kolpingjugend-paderborn-west.de/veranstaltungen/ostereier-faer
 ben/
SUMMARY:Ostereier Färben
DESCRIPTION:In den letzten Jahren ist es Tradition geworden\, dass wir in d
 er Woche vor Ostern die Ostereier färben und Osterlämmer und -plätzchen
  backen. Dazu treffen wir uns am Mittwoch\, 12.04.\, um 17:00 Uhr im Pfarr
 heim St. Georg.\nWer die Köstlichkeiten testen möchte\, kann dies nach d
 er Osternachts-Messe am Sonntag\, 16.04. ab ca. 07:00 Uhr tun \;-)
ATTACH;FMTTYPE=image/jpeg:https://kolpingjugend-paderborn-west.de/wp-conte
 nt/uploads/2017/04/easter-eggs-1289520_1280.jpg
LOCATION:Pfarrheim St. Georg\, Neuhäuser Str. 78a\, Paderborn\, 33102\, NR
 W\, Deutschland
GEO:51.72445380000001;8.737209699999994
X-APPLE-STRUCTURED-LOCATION;VALUE=URI;X-ADDRESS=Neuhäuser Str. 78a\, Pader
 born\, 33102\, NRW\, Deutschland;X-APPLE-RADIUS=100;X-TITLE=Pfarrheim St. 
 Georg:geo:51.72445380000001,8.737209699999994
END:VEVENT
BEGIN:VTIMEZONE
TZID:Europe/Berlin
X-LIC-LOCATION:Europe/Berlin
BEGIN:DAYLIGHT
DTSTART:20170326T030000
TZOFFSETFROM:+0100
TZOFFSETTO:+0200
TZNAME:CEST
END:DAYLIGHT
END:VTIMEZONE
END:VCALENDAR