BEGIN:VCALENDAR
VERSION:2.0
PRODID:-//wp-events-plugin.com//7.2.3.1//EN
TZID:Europe/Berlin
X-WR-TIMEZONE:Europe/Berlin
BEGIN:VEVENT
UID:362@kolpingjugend-paderborn-west.de
DTSTART;TZID=Europe/Berlin:20220616T000000
DTEND;TZID=Europe/Berlin:20220616T000000
DTSTAMP:20220416T192221Z
URL:https://kolpingjugend-paderborn-west.de/veranstaltungen/pfarrfest-st-g
 eorg-2/
SUMMARY:Pfarrfest St. Georg
DESCRIPTION:2022 soll das Pfarrfest fast wieder wie gewohnt stattfinden.
END:VEVENT
BEGIN:VTIMEZONE
TZID:Europe/Berlin
X-LIC-LOCATION:Europe/Berlin
BEGIN:DAYLIGHT
DTSTART:20220327T030000
TZOFFSETFROM:+0100
TZOFFSETTO:+0200
TZNAME:CEST
END:DAYLIGHT
END:VTIMEZONE
END:VCALENDAR