BEGIN:VCALENDAR
VERSION:2.0
PRODID:-//wp-events-plugin.com//7.2.3.1//EN
TZID:Europe/Berlin
X-WR-TIMEZONE:Europe/Berlin
BEGIN:VEVENT
UID:94@kolpingjugend-paderborn-west.de
DTSTART;TZID=Europe/Berlin:20190310T150000
DTEND;TZID=Europe/Berlin:20190310T170000
DTSTAMP:20181125T104319Z
URL:https://kolpingjugend-paderborn-west.de/veranstaltungen/spielenachmitt
 ag-mit-der-kolpingsfamilie/
SUMMARY:Spielenachmittag mit der Kolpingsfamilie
DESCRIPTION:Zusammen mit der Kolpingsfamilie laden wir alle Spielebegeister
 ten (und die\, die es noch werden möchten) ins Pfarrheim ein\, um einen n
 etten Nachmittag mit tollen Gesellschaftsspielen zu verbringen.\nJeder ist
  eingeladen\, seine Lieblinsspiele mitzubringen und vorzustellen.
ATTACH;FMTTYPE=image/jpeg:https://kolpingjugend-paderborn-west.de/wp-conte
 nt/uploads/2018/11/gesellschaftsspiel_1543142553.jpg
LOCATION:Pfarrheim St. Georg\, Neuhäuser Str. 78a\, Paderborn\, 33102\, NR
 W\, Deutschland
GEO:51.72445380000001;8.737209699999994
X-APPLE-STRUCTURED-LOCATION;VALUE=URI;X-ADDRESS=Neuhäuser Str. 78a\, Pader
 born\, 33102\, NRW\, Deutschland;X-APPLE-RADIUS=100;X-TITLE=Pfarrheim St. 
 Georg:geo:51.72445380000001,8.737209699999994
END:VEVENT
BEGIN:VTIMEZONE
TZID:Europe/Berlin
X-LIC-LOCATION:Europe/Berlin
BEGIN:STANDARD
DTSTART:20181028T020000
TZOFFSETFROM:+0200
TZOFFSETTO:+0100
TZNAME:CET
END:STANDARD
END:VTIMEZONE
END:VCALENDAR