BEGIN:VCALENDAR
VERSION:2.0
PRODID:-//wp-events-plugin.com//7.2.3.1//EN
TZID:Europe/Berlin
X-WR-TIMEZONE:Europe/Berlin
BEGIN:VEVENT
UID:451@kolpingjugend-paderborn-west.de
DTSTART;TZID=Europe/Berlin:20250430T193000
DTEND;TZID=Europe/Berlin:20250430T235900
DTSTAMP:20250408T175529Z
URL:https://kolpingjugend-paderborn-west.de/veranstaltungen/tanz-in-den-ma
 i-2025/
SUMMARY:Tanz in den Mai 2025
DESCRIPTION:Am 30.04.2025 findet der traditionelle "Tanz in den Mai" der st
 att. Die Kolpingjugend veranstaltet dieses Jahr\, bis 24 Uhr\, parallel zu
  den Erwachsenen eine Kinder-Tanzveranstaltung. Wie die letzten Jahre\, gi
 bt es auch in diesem Jahr wieder das Spiel "Just Dance".\n\nLos geht es um
  19:30 Uhr im Pfarrheim St. Georg.
ATTACH;FMTTYPE=image/jpeg:https://kolpingjugend-paderborn-west.de/wp-conte
 nt/uploads/2018/04/image-5616.jpg
LOCATION:Pfarrheim St. Georg\, Neuhäuser Str. 78a\, Paderborn\, 33102\, NR
 W\, Deutschland
GEO:51.72445380000001;8.737209699999994
X-APPLE-STRUCTURED-LOCATION;VALUE=URI;X-ADDRESS=Neuhäuser Str. 78a\, Pader
 born\, 33102\, NRW\, Deutschland;X-APPLE-RADIUS=100;X-TITLE=Pfarrheim St. 
 Georg:geo:51.72445380000001,8.737209699999994
END:VEVENT
BEGIN:VTIMEZONE
TZID:Europe/Berlin
X-LIC-LOCATION:Europe/Berlin
BEGIN:DAYLIGHT
DTSTART:20250330T030000
TZOFFSETFROM:+0100
TZOFFSETTO:+0200
TZNAME:CEST
END:DAYLIGHT
END:VTIMEZONE
END:VCALENDAR