BEGIN:VCALENDAR
VERSION:2.0
PRODID:-//wp-events-plugin.com//7.2.3.1//EN
TZID:Europe/Berlin
X-WR-TIMEZONE:Europe/Berlin
BEGIN:VEVENT
UID:368@kolpingjugend-paderborn-west.de
DTSTART;TZID=Europe/Berlin:20221230T170000
DTEND;TZID=Europe/Berlin:20221230T190000
DTSTAMP:20221230T143730Z
URL:https://kolpingjugend-paderborn-west.de/veranstaltungen/weihnachtsbaum
 wanderung/
SUMMARY:Weihnachtsbaumwanderung
DESCRIPTION:Hallo zusammen\,\nLiebe Familien\,&nbsp\;\nLiebe Kolpinger\,\n&
 nbsp\;\nKurz vor den Feiertagen möchten wir als Kolpingjugend euch auf un
 sere letzte Aktion in diesem Jahr aufmerksam machen.\nWeihnachtsbaumwander
 ung am 30.12.&nbsp\;\nTreffpunkt um 17 Uhr am Pfarrheim.&nbsp\;\n&nbsp\;\n
 Dafür braucht es eure schön geschmückten Weihnachtsbäume die fußläuf
 ig in der Nähe zu St. Georg liegen.\nMit kräftigen Stimmen und musikalis
 cher Begleitung besingen wir dann gemeinsam den Weihnachtsbaum und ziehen 
 anschließend zur nächsten Station.&nbsp\;\n&nbsp\;\nWenn ihr gerne euren
  Baum präsentieren möchtet\, meldet euch kurzfristig per Mail oder in de
 r Signalgruppe bei uns\, damit wir vorab die ungefähre Route abschätzen 
 können.\n&nbsp\;\nWir freuen uns auf eine gemeinsame Wanderung zum Ende d
 es Jahres mit euch!&nbsp\;\n&nbsp\;\nEuch und euren Familien gesegnete Wei
 hnachtstage!&nbsp\;
END:VEVENT
BEGIN:VTIMEZONE
TZID:Europe/Berlin
X-LIC-LOCATION:Europe/Berlin
BEGIN:STANDARD
DTSTART:20221030T020000
TZOFFSETFROM:+0200
TZOFFSETTO:+0100
TZNAME:CET
END:STANDARD
END:VTIMEZONE
END:VCALENDAR