BEGIN:VCALENDAR
VERSION:2.0
PRODID:-//wp-events-plugin.com//7.2.3.1//EN
TZID:Europe/Berlin
X-WR-TIMEZONE:Europe/Berlin
BEGIN:VEVENT
UID:133@kolpingjugend-paderborn-west.de
DTSTART;TZID=Europe/Berlin:20191229T150000
DTEND;TZID=Europe/Berlin:20191229T183000
DTSTAMP:20191127T194007Z
URL:https://kolpingjugend-paderborn-west.de/veranstaltungen/weihnachtsfeie
 r-mit-quiz/
SUMMARY:Weihnachtsfeier mit Quiz und Weihnachtsbaumwanderung
DESCRIPTION:Wie jedes jahr gibt es auch in diesem Jahr unsere traditionelle
  Weihnachtsfeier mit Gesang\, Keksen\, Punsch und Glühwein. Alle sind her
 zlich eingeladen. Zusätzlich wird es dieses Jahr ein kleines Quiz für zw
 ischendurch geben\, in dem Ihr euer Wissen unter Beweis stellen könnt!\n\
 nAnschließend werden wir noch den einen oder anderen Weihnachtsbaum besuc
 hen.\nWir freuen uns auf euch.\n\nSelbstgebackenes darf natürlich auch mi
 tgebracht werden.
LOCATION:Pfarrheim St. Georg\, Neuhäuser Str. 78a\, Paderborn\, 33102\, NR
 W\, Deutschland
GEO:51.72445380000001;8.737209699999994
X-APPLE-STRUCTURED-LOCATION;VALUE=URI;X-ADDRESS=Neuhäuser Str. 78a\, Pader
 born\, 33102\, NRW\, Deutschland;X-APPLE-RADIUS=100;X-TITLE=Pfarrheim St. 
 Georg:geo:51.72445380000001,8.737209699999994
END:VEVENT
BEGIN:VTIMEZONE
TZID:Europe/Berlin
X-LIC-LOCATION:Europe/Berlin
BEGIN:STANDARD
DTSTART:20191027T020000
TZOFFSETFROM:+0200
TZOFFSETTO:+0100
TZNAME:CET
END:STANDARD
END:VTIMEZONE
END:VCALENDAR