BEGIN:VCALENDAR
VERSION:2.0
PRODID:-//wp-events-plugin.com//7.2.3.1//EN
TZID:Europe/Berlin
X-WR-TIMEZONE:Europe/Berlin
BEGIN:VEVENT
UID:11@kolpingjugend-paderborn-west.de
DTSTART;TZID=Europe/Berlin:20161118T160000
DTEND;TZID=Europe/Berlin:20161120T120000
DTSTAMP:20161107T210920Z
URL:https://kolpingjugend-paderborn-west.de/veranstaltungen/winterwochenen
 de-2016/
SUMMARY:Winterwochenende 2016
DESCRIPTION:Wie auch in den vergangenen Jahren fahren wir mit Euch gegen En
 de des Jahres in ein neues Winterwochenende-Abenteuer. Das Ziel wird\, tra
 ditionell\, noch nicht verraten. Ihr könnt euch aber wieder auf ein tolle
 s Programm freuen! Mit etwas Glück haben wir auch den ersten Schnee in di
 esem Jahr :)\n\nAnmelden könnt ihr euch bei euren Gruppenleitern oder dir
 ekt per Email.
ATTACH;FMTTYPE=image/jpeg:https://kolpingjugend-paderborn-west.de/wp-conte
 nt/uploads/2016/09/winterberg-298070_1280.jpg
END:VEVENT
BEGIN:VTIMEZONE
TZID:Europe/Berlin
X-LIC-LOCATION:Europe/Berlin
BEGIN:STANDARD
DTSTART:20161030T020000
TZOFFSETFROM:+0200
TZOFFSETTO:+0100
TZNAME:CET
END:STANDARD
END:VTIMEZONE
END:VCALENDAR