BEGIN:VCALENDAR
VERSION:2.0
PRODID:-//wp-events-plugin.com//7.2.3.1//EN
TZID:Europe/Berlin
X-WR-TIMEZONE:Europe/Berlin
BEGIN:VEVENT
UID:134@kolpingjugend-paderborn-west.de
DTSTART;TZID=Europe/Berlin:20200124T160000
DTEND;TZID=Europe/Berlin:20200126T120000
DTSTAMP:20200104T172106Z
URL:https://kolpingjugend-paderborn-west.de/veranstaltungen/winterwochenen
 de-2020/
SUMMARY:Winterwochenende 2020
DESCRIPTION:Auch dieses Jahr freuen wir uns wieder mit euch ein winterliche
 s Wochende zu verbringen. Wir fahren vom 24. bis zum 26. Januar 2020 mit e
 uch in ein Pfarrhaus mit Selbstversorgung. Dieses Jahr gehts nach Siedling
 hausen!\nAm 24. Januar treffen wir uns um 16 Uhr am Pfarrheim St. Georg un
 d kommen am 26. Januar gegen Mittag dort wieder an.\n\nDer Teilnahmebeitra
 g beträgt für Mitglieder der Kolpingjugend 25\,-€ und für alle Nicht-
 Mitglieder 35\,-€.\n\nWenn euch das letzte Winterwochenende gefallen hat
  oder ihr dieses Jahr gerne zum ersten Mal mitfahren möchtet\, meldet euc
 h jetzt schnell per Mail an unter team@kj-pb-west.de.\n\nIhr könnt euch b
 is zum 12. Januar anmelden. Beachtet aber bitte\, dass nur begrenzt Plätz
 e zur Verfügung stehen - also schnell sein lohnt sich.\nNachdem ihr euch 
 angemeldet habt\, bekommt ihr noch ausführlichere Informationen. Leitet d
 iese Einladung auch gerne an eure Freundinnen und Freunde weiter und verbr
 ingt gemeinsam ein cooles Wochenende.
ATTACH;FMTTYPE=image/jpeg:https://kolpingjugend-paderborn-west.de/wp-conte
 nt/uploads/2018/01/titelbild.jpg
LOCATION:Kolpinghaus Siedlinghausen\, Kolpingstraße 12\, Siedlinghausen\, 
 Deutschland
GEO:51.25147;8.47454
X-APPLE-STRUCTURED-LOCATION;VALUE=URI;X-ADDRESS=Kolpingstraße 12\, Siedlin
 ghausen\, Deutschland;X-APPLE-RADIUS=100;X-TITLE=Kolpinghaus Siedlinghause
 n:geo:51.25147,8.47454
END:VEVENT
BEGIN:VTIMEZONE
TZID:Europe/Berlin
X-LIC-LOCATION:Europe/Berlin
BEGIN:STANDARD
DTSTART:20191027T020000
TZOFFSETFROM:+0200
TZOFFSETTO:+0100
TZNAME:CET
END:STANDARD
END:VTIMEZONE
END:VCALENDAR