BEGIN:VCALENDAR
VERSION:2.0
PRODID:-//wp-events-plugin.com//7.2.3.1//EN
TZID:Europe/Berlin
X-WR-TIMEZONE:Europe/Berlin
BEGIN:VEVENT
UID:367@kolpingjugend-paderborn-west.de
DTSTART;TZID=Europe/Berlin:20230210T163000
DTEND;TZID=Europe/Berlin:20230212T163000
DTSTAMP:20221205T162616Z
URL:https://kolpingjugend-paderborn-west.de/veranstaltungen/winterwochenen
 de-2023/
SUMMARY:Winterwochenende 2023
DESCRIPTION:Save the Date
END:VEVENT
BEGIN:VTIMEZONE
TZID:Europe/Berlin
X-LIC-LOCATION:Europe/Berlin
BEGIN:STANDARD
DTSTART:20221030T020000
TZOFFSETFROM:+0200
TZOFFSETTO:+0100
TZNAME:CET
END:STANDARD
END:VTIMEZONE
END:VCALENDAR