BEGIN:VCALENDAR
VERSION:2.0
PRODID:-//wp-events-plugin.com//7.2.3.1//EN
TZID:Europe/Berlin
X-WR-TIMEZONE:Europe/Berlin
BEGIN:VEVENT
UID:450@kolpingjugend-paderborn-west.de
DTSTART;TZID=Europe/Berlin:20250124T000000
DTEND;TZID=Europe/Berlin:20250126T000000
DTSTAMP:20250107T174932Z
URL:https://kolpingjugend-paderborn-west.de/veranstaltungen/winterwochenen
 de-2025/
SUMMARY:Winterwochenende 2025
DESCRIPTION:Wir\, die Kolpingjugend Paderborn-West\, fahren seit 2014 ins W
 interwochenende. Das ist unsere kleine Kurzfreizeit in den Schnee. Wir mö
 chten Euch einladen\, mit uns vom 24. bis 26. Januar 2025 nach Erlinghause
 n zu fahren.\nEuch erwartet ein tolles Wochenende im hoffentlich verschnei
 ten Sauerland.\n\nLos geht's am Freitag\, den 24. Januar um 16:00 Uhr am P
 farrheim St. Georg (Neuhäuserstr. 78a)\nDie Ankunft in Paderborn am Sonnt
 ag\, 26. Januar ist für ca. 12.30 / 13 Uhr geplant.\n\nDie Anmeldung und 
 weitere Informationen findet ihr hier.\nKosten: 35€ pro Person.\nWer: Ki
 nder im Alter von 7 bis 12 Jahren\n\nBei Fragen meldet euch bei uns unter 
 team@kj-pb-west.de.\n\n&nbsp\;
ATTACH;FMTTYPE=image/jpeg:https://kolpingjugend-paderborn-west.de/wp-conte
 nt/uploads/2024/12/Winterwochenende_Flyer_V2-pdf.jpg
END:VEVENT
BEGIN:VTIMEZONE
TZID:Europe/Berlin
X-LIC-LOCATION:Europe/Berlin
BEGIN:STANDARD
DTSTART:20241027T020000
TZOFFSETFROM:+0200
TZOFFSETTO:+0100
TZNAME:CET
END:STANDARD
END:VTIMEZONE
END:VCALENDAR