BEGIN:VCALENDAR
VERSION:2.0
PRODID:-//wp-events-plugin.com//7.2.3.1//EN
TZID:Europe/Berlin
X-WR-TIMEZONE:Europe/Berlin
BEGIN:VEVENT
UID:343@kolpingjugend-paderborn-west.de
DTSTART;TZID=Europe/Berlin:20210207T140000
DTEND;TZID=Europe/Berlin:20210207T180000
DTSTAMP:20210130T161623Z
URL:https://kolpingjugend-paderborn-west.de/veranstaltungen/winterwochenen
 de-home/
SUMMARY:Winterwochenende @home
DESCRIPTION:Dieses Jahr können wir leider nicht gemeinsam mit euch ins Sau
 erland fahren und das Wochenende im Schnee genießen. Stattdessen wollen w
 ir uns wieder einmal per Videocall zusammenschließen und zumindest einen 
 Nachmittag das Winterwochenende-feeling aufleben lassen.\n\nFür Sonntag\,
  den 07.02.2021 von 14-18 Uhr\, haben wir ein umfangreiches Programm vorbe
 reitet!\n\nAnmelden könnt ihr euch bis zum 28.01.2012 unter team@kj-pb-we
 st.de&nbsp\;\n\nAlle weiteren Infos folgen in unser Mailingliste!
ATTACH;FMTTYPE=image/jpeg:https://kolpingjugend-paderborn-west.de/wp-conte
 nt/uploads/2016/09/winterberg-298070_1280.jpg
END:VEVENT
BEGIN:VTIMEZONE
TZID:Europe/Berlin
X-LIC-LOCATION:Europe/Berlin
BEGIN:STANDARD
DTSTART:20201025T020000
TZOFFSETFROM:+0200
TZOFFSETTO:+0100
TZNAME:CET
END:STANDARD
END:VTIMEZONE
END:VCALENDAR